BEGIN:VCALENDAR
VERSION:2.0
PRODID:-//Tukios.com/
BEGIN:VEVENT
UID:0c37cf9b-507a-423c-b3e9-38376ed8b455@www.tributefuneralhomes.com
DTSTAMP:20260425T002114Z
DTSTART:20260428T170000Z
DTEND:20260428T180000Z
SUMMARY:Celebration of Life
DESCRIPTION:
URL:https://www.tributefuneralhomes.com/obituaries/imogene-moores
LOCATION:Tribute Funeral Homes, Greenville Campus 1000 North Broadway 
	Street  Greenville OH 45331
GEO:40.1149088;-84.6381263
END:VEVENT
END:VCALENDAR