BEGIN:VCALENDAR
VERSION:2.0
PRODID:-//Tukios.com/
BEGIN:VEVENT
UID:f71285f1-4593-41a6-8c22-df57cd5e1dfb@www.tributefuneralhomes.com
DTSTAMP:20260425T002615Z
DTSTART:20260428T150000Z
DTEND:20260428T170000Z
SUMMARY:Visitation
DESCRIPTION:
URL:https://www.tributefuneralhomes.com/obituaries/imogene-moores
LOCATION:Tribute Funeral Homes, Greenville Campus 1000 North Broadway 
	Street  Greenville OH 45331
GEO:40.1149088;-84.6381263
END:VEVENT
END:VCALENDAR