BEGIN:VCALENDAR
VERSION:2.0
PRODID:-//Tukios.com/
BEGIN:VEVENT
UID:2a614307-614d-470c-b41d-77d3d1854b80@www.tributefuneralhomes.com
DTSTAMP:20260425T002743Z
DTSTART:20260428
SUMMARY:Burial
DESCRIPTION:
URL:https://www.tributefuneralhomes.com/obituaries/imogene-moores
LOCATION: 305 North Main  Palestine OH 45352
GEO:40.0527193;-84.7438189
END:VEVENT
END:VCALENDAR